   BEGIN:VCALENDAR
VERSION:2.0
PRODID:-//Grangetown Primary - ECPv6.15.20//NONSGML v1.0//EN
CALSCALE:GREGORIAN
METHOD:PUBLISH
X-ORIGINAL-URL:https://www.grangetownprimaryschool.co.uk
X-WR-CALDESC:Events for Grangetown Primary
REFRESH-INTERVAL;VALUE=DURATION:PT1H
X-Robots-Tag:noindex
X-PUBLISHED-TTL:PT1H
BEGIN:VTIMEZONE
TZID:UTC
BEGIN:STANDARD
TZOFFSETFROM:+0000
TZOFFSETTO:+0000
TZNAME:UTC
DTSTART:20180101T000000
END:STANDARD
END:VTIMEZONE
BEGIN:VEVENT
DTSTART;VALUE=DATE:20190401
DTEND;VALUE=DATE:20190403
DTSTAMP:20260419T152252
CREATED:20190326T103020Z
LAST-MODIFIED:20190326T103020Z
UID:3553-1554076800-1554249599@www.grangetownprimaryschool.co.uk
SUMMARY:Children to bring their Easter Eggs Decs
DESCRIPTION:
URL:https://www.grangetownprimaryschool.co.uk/event/children-to-bring-their-easter-eggs-decs/
END:VEVENT
BEGIN:VEVENT
DTSTART;VALUE=DATE:20190402
DTEND;VALUE=DATE:20190403
DTSTAMP:20260419T152252
CREATED:20190326T102543Z
LAST-MODIFIED:20190326T102543Z
UID:3549-1554163200-1554249599@www.grangetownprimaryschool.co.uk
SUMMARY:Y3 walking to St Hildas
DESCRIPTION:
URL:https://www.grangetownprimaryschool.co.uk/event/y3-walking-to-st-hildas/
END:VEVENT
BEGIN:VEVENT
DTSTART;VALUE=DATE:20190403
DTEND;VALUE=DATE:20190404
DTSTAMP:20260419T152252
CREATED:20190326T103053Z
LAST-MODIFIED:20190326T103053Z
UID:3555-1554249600-1554335999@www.grangetownprimaryschool.co.uk
SUMMARY:Easter Eggs Decs Judging
DESCRIPTION:
URL:https://www.grangetownprimaryschool.co.uk/event/easter-eggs-decs-judging/
END:VEVENT
BEGIN:VEVENT
DTSTART;VALUE=DATE:20190404
DTEND;VALUE=DATE:20190405
DTSTAMP:20260419T152252
CREATED:20190326T103116Z
LAST-MODIFIED:20190326T103116Z
UID:3557-1554336000-1554422399@www.grangetownprimaryschool.co.uk
SUMMARY:KS1 Fire Safety Day
DESCRIPTION:
URL:https://www.grangetownprimaryschool.co.uk/event/ks1-fire-safety-day/
END:VEVENT
BEGIN:VEVENT
DTSTART;TZID=UTC:20190404T100000
DTEND;TZID=UTC:20190404T120000
DTSTAMP:20260419T152252
CREATED:20190326T102615Z
LAST-MODIFIED:20190326T102615Z
UID:3551-1554372000-1554379200@www.grangetownprimaryschool.co.uk
SUMMARY:Y3 Easter Performance at St Hilda's
DESCRIPTION:
URL:https://www.grangetownprimaryschool.co.uk/event/y3-easter-performance-at-st-hildas/
END:VEVENT
BEGIN:VEVENT
DTSTART;TZID=UTC:20190404T124500
DTEND;TZID=UTC:20190404T143000
DTSTAMP:20260419T152252
CREATED:20190110T135001Z
LAST-MODIFIED:20190110T135001Z
UID:3362-1554381900-1554388200@www.grangetownprimaryschool.co.uk
SUMMARY:Y3 Swimming
DESCRIPTION:
URL:https://www.grangetownprimaryschool.co.uk/event/y3-swimming-15/
END:VEVENT
BEGIN:VEVENT
DTSTART;VALUE=DATE:20190405
DTEND;VALUE=DATE:20190406
DTSTAMP:20260419T152252
CREATED:20190110T135030Z
LAST-MODIFIED:20190110T135030Z
UID:3365-1554422400-1554508799@www.grangetownprimaryschool.co.uk
SUMMARY:Last day of term
DESCRIPTION:
URL:https://www.grangetownprimaryschool.co.uk/event/last-day-of-term-3/
END:VEVENT
BEGIN:VEVENT
DTSTART;VALUE=DATE:20190405
DTEND;VALUE=DATE:20190406
DTSTAMP:20260419T152252
CREATED:20190326T103149Z
LAST-MODIFIED:20190326T103149Z
UID:3559-1554422400-1554508799@www.grangetownprimaryschool.co.uk
SUMMARY:No Open Afternoon - Children finishing at normal time
DESCRIPTION:
URL:https://www.grangetownprimaryschool.co.uk/event/no-open-afternoon-children-finishing-at-normal-time/
END:VEVENT
BEGIN:VEVENT
DTSTART;VALUE=DATE:20190405
DTEND;VALUE=DATE:20190406
DTSTAMP:20260419T152252
CREATED:20190403T074438Z
LAST-MODIFIED:20190403T074438Z
UID:3567-1554422400-1554508799@www.grangetownprimaryschool.co.uk
SUMMARY:Non Uniform Day
DESCRIPTION:No cost for this event
URL:https://www.grangetownprimaryschool.co.uk/event/non-uniform-day/
END:VEVENT
BEGIN:VEVENT
DTSTART;VALUE=DATE:20190406
DTEND;VALUE=DATE:20190415
DTSTAMP:20260419T152252
CREATED:20190110T135059Z
LAST-MODIFIED:20190110T135059Z
UID:3367-1554508800-1555286399@www.grangetownprimaryschool.co.uk
SUMMARY:Easter Holidays
DESCRIPTION:
URL:https://www.grangetownprimaryschool.co.uk/event/easter-holidays-2/
END:VEVENT
BEGIN:VEVENT
DTSTART;VALUE=DATE:20190415
DTEND;VALUE=DATE:20190422
DTSTAMP:20260419T152252
CREATED:20190110T135334Z
LAST-MODIFIED:20190110T135334Z
UID:3375-1555286400-1555891199@www.grangetownprimaryschool.co.uk
SUMMARY:Easter Holidays
DESCRIPTION:
URL:https://www.grangetownprimaryschool.co.uk/event/easter-holidays-3/
END:VEVENT
BEGIN:VEVENT
DTSTART;VALUE=DATE:20190422
DTEND;VALUE=DATE:20190423
DTSTAMP:20260419T152252
CREATED:20190110T135131Z
LAST-MODIFIED:20190110T135131Z
UID:3369-1555891200-1555977599@www.grangetownprimaryschool.co.uk
SUMMARY:Bank Holiday Monday - School is closed
DESCRIPTION:
URL:https://www.grangetownprimaryschool.co.uk/event/bank-holiday-monday-school-is-closed/
END:VEVENT
BEGIN:VEVENT
DTSTART;VALUE=DATE:20190423
DTEND;VALUE=DATE:20190424
DTSTAMP:20260419T152252
CREATED:20190110T135158Z
LAST-MODIFIED:20190110T135158Z
UID:3371-1555977600-1556063999@www.grangetownprimaryschool.co.uk
SUMMARY:Children are back into school
DESCRIPTION:
URL:https://www.grangetownprimaryschool.co.uk/event/children-are-back-into-school/
END:VEVENT
END:VCALENDAR