   BEGIN:VCALENDAR
VERSION:2.0
PRODID:-//Grangetown Primary - ECPv6.15.20//NONSGML v1.0//EN
CALSCALE:GREGORIAN
METHOD:PUBLISH
X-WR-CALNAME:Grangetown Primary
X-ORIGINAL-URL:https://www.grangetownprimaryschool.co.uk
X-WR-CALDESC:Events for Grangetown Primary
REFRESH-INTERVAL;VALUE=DURATION:PT1H
X-Robots-Tag:noindex
X-PUBLISHED-TTL:PT1H
BEGIN:VTIMEZONE
TZID:UTC
BEGIN:STANDARD
TZOFFSETFROM:+0000
TZOFFSETTO:+0000
TZNAME:UTC
DTSTART:20170101T000000
END:STANDARD
END:VTIMEZONE
BEGIN:VEVENT
DTSTART;VALUE=DATE:20180301
DTEND;VALUE=DATE:20180302
DTSTAMP:20260421T173234
CREATED:20180220T161541Z
LAST-MODIFIED:20180220T161541Z
UID:2535-1519862400-1519948799@www.grangetownprimaryschool.co.uk
SUMMARY:World Book's Day
DESCRIPTION:It is an opportunity for all the children to come in and dress up as their favourite character from a book.
URL:https://www.grangetownprimaryschool.co.uk/event/world-books-day/
END:VEVENT
BEGIN:VEVENT
DTSTART;VALUE=DATE:20180308
DTEND;VALUE=DATE:20180309
DTSTAMP:20260421T173234
CREATED:20180305T143336Z
LAST-MODIFIED:20180305T143336Z
UID:2610-1520467200-1520553599@www.grangetownprimaryschool.co.uk
SUMMARY:World's Book Day
DESCRIPTION:Rearranged
URL:https://www.grangetownprimaryschool.co.uk/event/worlds-book-day/
END:VEVENT
BEGIN:VEVENT
DTSTART;TZID=UTC:20180312T080000
DTEND;TZID=UTC:20180316T170000
DTSTAMP:20260421T173234
CREATED:20180305T143552Z
LAST-MODIFIED:20180305T143552Z
UID:2612-1520841600-1521219600@www.grangetownprimaryschool.co.uk
SUMMARY:Science Week
DESCRIPTION:
URL:https://www.grangetownprimaryschool.co.uk/event/science-week/
END:VEVENT
BEGIN:VEVENT
DTSTART;TZID=UTC:20180312T090000
DTEND;TZID=UTC:20180312T120000
DTSTAMP:20260421T173234
CREATED:20180307T110741Z
LAST-MODIFIED:20180307T110741Z
UID:2633-1520845200-1520856000@www.grangetownprimaryschool.co.uk
SUMMARY:Rec\, Y1 and Miss Small's Class Walk to Millennium Gardens
DESCRIPTION:4th November 2015 \n  \n  \n 
URL:https://www.grangetownprimaryschool.co.uk/event/rec-y1-and-miss-smalls-class-walk-to-millennium-gardens/
END:VEVENT
BEGIN:VEVENT
DTSTART;TZID=UTC:20180312T130000
DTEND;TZID=UTC:20180312T150000
DTSTAMP:20260421T173234
CREATED:20180306T140647Z
LAST-MODIFIED:20180306T142158Z
UID:2623-1520859600-1520866800@www.grangetownprimaryschool.co.uk
SUMMARY:Y5 Puberty Talk - 12.03.18
DESCRIPTION:Y5 ‘Puberty Talk’ \nThe school nurse will be coming in to school on the afternoon of Monday 12th March to talk to the children in Year 5 about Puberty. \n  \nThis talk will involve the children discussing scientific terminology in order to explore the changes that occur in puberty. It will be useful for the children to use this talk to ask any questions or concerns they may have about puberty. \n  \nIf you have any objections to your child taking part in this talk\, please inform school in writing.
URL:https://www.grangetownprimaryschool.co.uk/event/y5-puberty-talk/
END:VEVENT
BEGIN:VEVENT
DTSTART;VALUE=DATE:20180319
DTEND;VALUE=DATE:20180320
DTSTAMP:20260421T173234
CREATED:20180305T143722Z
LAST-MODIFIED:20180305T143722Z
UID:2614-1521417600-1521503999@www.grangetownprimaryschool.co.uk
SUMMARY:Zoolab Visit to KS1 & KS2
DESCRIPTION:
URL:https://www.grangetownprimaryschool.co.uk/event/zoolab-visit-to-ks1-ks2/
END:VEVENT
BEGIN:VEVENT
DTSTART;TZID=UTC:20180322T100000
DTEND;TZID=UTC:20180322T113000
DTSTAMP:20260421T173234
CREATED:20180322T082307Z
LAST-MODIFIED:20180322T082307Z
UID:2728-1521712800-1521718200@www.grangetownprimaryschool.co.uk
SUMMARY:Open Morning Kiddiwinkles and Morning Nursery
DESCRIPTION:
URL:https://www.grangetownprimaryschool.co.uk/event/open-morning-kiddiwinkles-and-morning-nursery/
END:VEVENT
BEGIN:VEVENT
DTSTART;TZID=UTC:20180322T100000
DTEND;TZID=UTC:20180322T120000
DTSTAMP:20260421T173234
CREATED:20180322T082629Z
LAST-MODIFIED:20180322T082629Z
UID:2734-1521712800-1521720000@www.grangetownprimaryschool.co.uk
SUMMARY:Whole School Easter Service
DESCRIPTION:
URL:https://www.grangetownprimaryschool.co.uk/event/whole-school-easter-service/
END:VEVENT
BEGIN:VEVENT
DTSTART;VALUE=DATE:20180323
DTEND;VALUE=DATE:20180324
DTSTAMP:20260421T173234
CREATED:20180220T162058Z
LAST-MODIFIED:20180220T162058Z
UID:2543-1521763200-1521849599@www.grangetownprimaryschool.co.uk
SUMMARY:Y6 London second Balance due
DESCRIPTION:£50.00
URL:https://www.grangetownprimaryschool.co.uk/event/y6-london-second-balance-due/
END:VEVENT
BEGIN:VEVENT
DTSTART;VALUE=DATE:20180323
DTEND;VALUE=DATE:20180324
DTSTAMP:20260421T173234
CREATED:20180220T162441Z
LAST-MODIFIED:20180220T162441Z
UID:2551-1521763200-1521849599@www.grangetownprimaryschool.co.uk
SUMMARY:Red Nose Day
DESCRIPTION:
URL:https://www.grangetownprimaryschool.co.uk/event/red-nose-day/
END:VEVENT
BEGIN:VEVENT
DTSTART;VALUE=DATE:20180329
DTEND;VALUE=DATE:20180330
DTSTAMP:20260421T173234
CREATED:20180220T162258Z
LAST-MODIFIED:20180220T162258Z
UID:2547-1522281600-1522367999@www.grangetownprimaryschool.co.uk
SUMMARY:Y4+5 France second Balance due
DESCRIPTION:£40.00
URL:https://www.grangetownprimaryschool.co.uk/event/y45-france-second-balance-due/
END:VEVENT
BEGIN:VEVENT
DTSTART;VALUE=DATE:20180329
DTEND;VALUE=DATE:20180330
DTSTAMP:20260421T173234
CREATED:20180220T162654Z
LAST-MODIFIED:20180220T162654Z
UID:2553-1522281600-1522367999@www.grangetownprimaryschool.co.uk
SUMMARY:Last day of School
DESCRIPTION:
URL:https://www.grangetownprimaryschool.co.uk/event/last-day-of-school/
END:VEVENT
BEGIN:VEVENT
DTSTART;TZID=UTC:20180329T130000
DTEND;TZID=UTC:20180329T150000
DTSTAMP:20260421T173234
CREATED:20180322T082124Z
LAST-MODIFIED:20180322T082124Z
UID:2722-1522328400-1522335600@www.grangetownprimaryschool.co.uk
SUMMARY:Open Afternoon - Reception - Year 2
DESCRIPTION:
URL:https://www.grangetownprimaryschool.co.uk/event/open-afternoon-reception-year-2/
END:VEVENT
BEGIN:VEVENT
DTSTART;TZID=UTC:20180329T131500
DTEND;TZID=UTC:20180329T150000
DTSTAMP:20260421T173234
CREATED:20180322T082215Z
LAST-MODIFIED:20180322T082215Z
UID:2724-1522329300-1522335600@www.grangetownprimaryschool.co.uk
SUMMARY:Open Afternoon - Y3 - Y6
DESCRIPTION:
URL:https://www.grangetownprimaryschool.co.uk/event/open-afternoon-y3-y6/
END:VEVENT
BEGIN:VEVENT
DTSTART;TZID=UTC:20180329T140000
DTEND;TZID=UTC:20180329T150000
DTSTAMP:20260421T173234
CREATED:20180322T082330Z
LAST-MODIFIED:20180322T082330Z
UID:2730-1522332000-1522335600@www.grangetownprimaryschool.co.uk
SUMMARY:Open Afternoon Kiddiwinkles and Morning Nursery
DESCRIPTION:
URL:https://www.grangetownprimaryschool.co.uk/event/open-afternoon-kiddiwinkles-and-morning-nursery/
END:VEVENT
BEGIN:VEVENT
DTSTART;VALUE=DATE:20180330
DTEND;VALUE=DATE:20180331
DTSTAMP:20260421T173234
CREATED:20180220T162721Z
LAST-MODIFIED:20180220T162721Z
UID:2555-1522368000-1522454399@www.grangetownprimaryschool.co.uk
SUMMARY:Good Friday
DESCRIPTION:School is closed
URL:https://www.grangetownprimaryschool.co.uk/event/good-friday/
END:VEVENT
BEGIN:VEVENT
DTSTART;TZID=UTC:20180330T080000
DTEND;TZID=UTC:20180415T235900
DTSTAMP:20260421T173234
CREATED:20180220T162822Z
LAST-MODIFIED:20180220T162822Z
UID:2557-1522396800-1523836740@www.grangetownprimaryschool.co.uk
SUMMARY:Easter Holidays
DESCRIPTION:
URL:https://www.grangetownprimaryschool.co.uk/event/easter-holidays/
END:VEVENT
END:VCALENDAR