   BEGIN:VCALENDAR
VERSION:2.0
PRODID:-//Grangetown Primary - ECPv6.15.20//NONSGML v1.0//EN
CALSCALE:GREGORIAN
METHOD:PUBLISH
X-ORIGINAL-URL:https://www.grangetownprimaryschool.co.uk
X-WR-CALDESC:Events for Grangetown Primary
REFRESH-INTERVAL;VALUE=DURATION:PT1H
X-Robots-Tag:noindex
X-PUBLISHED-TTL:PT1H
BEGIN:VTIMEZONE
TZID:UTC
BEGIN:STANDARD
TZOFFSETFROM:+0000
TZOFFSETTO:+0000
TZNAME:UTC
DTSTART:20170101T000000
END:STANDARD
END:VTIMEZONE
BEGIN:VEVENT
DTSTART;TZID=UTC:20180108T080000
DTEND;TZID=UTC:20180108T153000
DTSTAMP:20260421T203325
CREATED:20171206T143706Z
LAST-MODIFIED:20171206T143706Z
UID:2434-1515398400-1515425400@www.grangetownprimaryschool.co.uk
SUMMARY:Children return back to school
DESCRIPTION:
URL:https://www.grangetownprimaryschool.co.uk/event/children-return-back-to-school/
END:VEVENT
BEGIN:VEVENT
DTSTART;TZID=UTC:20180123T093000
DTEND;TZID=UTC:20180125T110000
DTSTAMP:20260421T203325
CREATED:20180117T145208Z
LAST-MODIFIED:20180117T145208Z
UID:2466-1516699800-1516878000@www.grangetownprimaryschool.co.uk
SUMMARY:Reception's Class - Bikeability
DESCRIPTION:
URL:https://www.grangetownprimaryschool.co.uk/event/receptions-class-bikeability/
END:VEVENT
BEGIN:VEVENT
DTSTART;VALUE=DATE:20180126
DTEND;VALUE=DATE:20180127
DTSTAMP:20260421T203325
CREATED:20180117T145250Z
LAST-MODIFIED:20180117T145359Z
UID:2468-1516924800-1517011199@www.grangetownprimaryschool.co.uk
SUMMARY:PCSO Blackburn Workshop on Safer Internet Day
DESCRIPTION:
URL:https://www.grangetownprimaryschool.co.uk/event/pcso-blackburn-workshop-on-safer-internet-day/
END:VEVENT
BEGIN:VEVENT
DTSTART;VALUE=DATE:20180129
DTEND;VALUE=DATE:20180203
DTSTAMP:20260421T203325
CREATED:20180117T145428Z
LAST-MODIFIED:20180117T145428Z
UID:2470-1517184000-1517615999@www.grangetownprimaryschool.co.uk
SUMMARY:Art Week
DESCRIPTION:
URL:https://www.grangetownprimaryschool.co.uk/event/art-week/
END:VEVENT
END:VCALENDAR