   BEGIN:VCALENDAR
VERSION:2.0
PRODID:-//Grangetown Primary - ECPv6.15.20//NONSGML v1.0//EN
CALSCALE:GREGORIAN
METHOD:PUBLISH
X-ORIGINAL-URL:https://www.grangetownprimaryschool.co.uk
X-WR-CALDESC:Events for Grangetown Primary
REFRESH-INTERVAL;VALUE=DURATION:PT1H
X-Robots-Tag:noindex
X-PUBLISHED-TTL:PT1H
BEGIN:VTIMEZONE
TZID:UTC
BEGIN:STANDARD
TZOFFSETFROM:+0000
TZOFFSETTO:+0000
TZNAME:UTC
DTSTART:20180101T000000
END:STANDARD
END:VTIMEZONE
BEGIN:VEVENT
DTSTART;VALUE=DATE:20190624
DTEND;VALUE=DATE:20190629
DTSTAMP:20260419T124802
CREATED:20190624T133605Z
LAST-MODIFIED:20190624T133605Z
UID:3705-1561334400-1561766399@www.grangetownprimaryschool.co.uk
SUMMARY:National Sports Week
DESCRIPTION:
URL:https://www.grangetownprimaryschool.co.uk/event/national-sports-week/
END:VEVENT
BEGIN:VEVENT
DTSTART;VALUE=DATE:20190625
DTEND;VALUE=DATE:20190626
DTSTAMP:20260419T124802
CREATED:20190611T093704Z
LAST-MODIFIED:20190611T093704Z
UID:3680-1561420800-1561507199@www.grangetownprimaryschool.co.uk
SUMMARY:Y4 Trip - Seven Stories
DESCRIPTION:
URL:https://www.grangetownprimaryschool.co.uk/event/y4-trip-seven-stories/
END:VEVENT
BEGIN:VEVENT
DTSTART;VALUE=DATE:20190625
DTEND;VALUE=DATE:20190626
DTSTAMP:20260419T124802
CREATED:20190624T133847Z
LAST-MODIFIED:20190624T133847Z
UID:3709-1561420800-1561507199@www.grangetownprimaryschool.co.uk
SUMMARY:Danceathon with Miss Strathern
DESCRIPTION:
URL:https://www.grangetownprimaryschool.co.uk/event/danceathon-with-miss-strathern/
END:VEVENT
END:VCALENDAR