   BEGIN:VCALENDAR
VERSION:2.0
PRODID:-//Grangetown Primary - ECPv6.15.20//NONSGML v1.0//EN
CALSCALE:GREGORIAN
METHOD:PUBLISH
X-WR-CALNAME:Grangetown Primary
X-ORIGINAL-URL:https://www.grangetownprimaryschool.co.uk
X-WR-CALDESC:Events for Grangetown Primary
REFRESH-INTERVAL;VALUE=DURATION:PT1H
X-Robots-Tag:noindex
X-PUBLISHED-TTL:PT1H
BEGIN:VTIMEZONE
TZID:UTC
BEGIN:STANDARD
TZOFFSETFROM:+0000
TZOFFSETTO:+0000
TZNAME:UTC
DTSTART:20180101T000000
END:STANDARD
END:VTIMEZONE
BEGIN:VEVENT
DTSTART;VALUE=DATE:20190324
DTEND;VALUE=DATE:20190330
DTSTAMP:20260419T175512
CREATED:20190111T125709Z
LAST-MODIFIED:20190111T125709Z
UID:3418-1553385600-1553903999@www.grangetownprimaryschool.co.uk
SUMMARY:Y5/6 London Trip
DESCRIPTION:
URL:https://www.grangetownprimaryschool.co.uk/event/y5-6-london-trip/
END:VEVENT
BEGIN:VEVENT
DTSTART;VALUE=DATE:20190328
DTEND;VALUE=DATE:20190329
DTSTAMP:20260419T175512
CREATED:20190321T142725Z
LAST-MODIFIED:20190321T142725Z
UID:3537-1553731200-1553817599@www.grangetownprimaryschool.co.uk
SUMMARY:Y5/6 Trip to York Railway Museum
DESCRIPTION:
URL:https://www.grangetownprimaryschool.co.uk/event/y5-6-trip-to-york-railway-museum/
END:VEVENT
END:VCALENDAR