   BEGIN:VCALENDAR
VERSION:2.0
PRODID:-//Grangetown Primary - ECPv6.15.20//NONSGML v1.0//EN
CALSCALE:GREGORIAN
METHOD:PUBLISH
X-ORIGINAL-URL:https://www.grangetownprimaryschool.co.uk
X-WR-CALDESC:Events for Grangetown Primary
REFRESH-INTERVAL;VALUE=DURATION:PT1H
X-Robots-Tag:noindex
X-PUBLISHED-TTL:PT1H
BEGIN:VTIMEZONE
TZID:UTC
BEGIN:STANDARD
TZOFFSETFROM:+0000
TZOFFSETTO:+0000
TZNAME:UTC
DTSTART:20180101T000000
END:STANDARD
END:VTIMEZONE
BEGIN:VEVENT
DTSTART;VALUE=DATE:20190225
DTEND;VALUE=DATE:20190226
DTSTAMP:20260419T164130
CREATED:20190110T140528Z
LAST-MODIFIED:20190110T140528Z
UID:3379-1551052800-1551139199@www.grangetownprimaryschool.co.uk
SUMMARY:Children are back in school
DESCRIPTION:
URL:https://www.grangetownprimaryschool.co.uk/event/children-are-back-in-school/
END:VEVENT
BEGIN:VEVENT
DTSTART;VALUE=DATE:20190225
DTEND;VALUE=DATE:20190228
DTSTAMP:20260419T164130
CREATED:20190201T124641Z
LAST-MODIFIED:20190201T124641Z
UID:3471-1551052800-1551311999@www.grangetownprimaryschool.co.uk
SUMMARY:Balance Bikes Training for Reception Class
DESCRIPTION:
URL:https://www.grangetownprimaryschool.co.uk/event/balance-bikes-training-for-reception-class/
END:VEVENT
END:VCALENDAR