   BEGIN:VCALENDAR
VERSION:2.0
PRODID:-//Grangetown Primary - ECPv6.15.20//NONSGML v1.0//EN
CALSCALE:GREGORIAN
METHOD:PUBLISH
X-ORIGINAL-URL:https://www.grangetownprimaryschool.co.uk
X-WR-CALDESC:Events for Grangetown Primary
REFRESH-INTERVAL;VALUE=DURATION:PT1H
X-Robots-Tag:noindex
X-PUBLISHED-TTL:PT1H
BEGIN:VTIMEZONE
TZID:UTC
BEGIN:STANDARD
TZOFFSETFROM:+0000
TZOFFSETTO:+0000
TZNAME:UTC
DTSTART:20180101T000000
END:STANDARD
END:VTIMEZONE
BEGIN:VEVENT
DTSTART;VALUE=DATE:20190207
DTEND;VALUE=DATE:20190208
DTSTAMP:20260419T175544
CREATED:20190110T133031Z
LAST-MODIFIED:20190110T133031Z
UID:3336-1549497600-1549583999@www.grangetownprimaryschool.co.uk
SUMMARY:Y1&Y2 Multi Skills @ Eston LC
DESCRIPTION:
URL:https://www.grangetownprimaryschool.co.uk/event/y1y2-multi-skills-eston-lc/
END:VEVENT
BEGIN:VEVENT
DTSTART;TZID=UTC:20190207T090000
DTEND;TZID=UTC:20190207T120000
DTSTAMP:20260419T175544
CREATED:20190116T140817Z
LAST-MODIFIED:20190116T140817Z
UID:3449-1549530000-1549540800@www.grangetownprimaryschool.co.uk
SUMMARY:Reception class at Pinchinthorpe Walkway
DESCRIPTION:
URL:https://www.grangetownprimaryschool.co.uk/event/reception-class-at-pinchinthorpe-walkway/
END:VEVENT
BEGIN:VEVENT
DTSTART;TZID=UTC:20190207T124500
DTEND;TZID=UTC:20190207T143000
DTSTAMP:20260419T175544
CREATED:20190110T133505Z
LAST-MODIFIED:20190110T133505Z
UID:3344-1549543500-1549549800@www.grangetownprimaryschool.co.uk
SUMMARY:Y3 Swimming
DESCRIPTION:
URL:https://www.grangetownprimaryschool.co.uk/event/y3-swimming-9/
END:VEVENT
END:VCALENDAR