   BEGIN:VCALENDAR
VERSION:2.0
PRODID:-//Grangetown Primary - ECPv6.15.20//NONSGML v1.0//EN
CALSCALE:GREGORIAN
METHOD:PUBLISH
X-ORIGINAL-URL:https://www.grangetownprimaryschool.co.uk
X-WR-CALDESC:Events for Grangetown Primary
REFRESH-INTERVAL;VALUE=DURATION:PT1H
X-Robots-Tag:noindex
X-PUBLISHED-TTL:PT1H
BEGIN:VTIMEZONE
TZID:UTC
BEGIN:STANDARD
TZOFFSETFROM:+0000
TZOFFSETTO:+0000
TZNAME:UTC
DTSTART:20170101T000000
END:STANDARD
END:VTIMEZONE
BEGIN:VEVENT
DTSTART;VALUE=DATE:20181220
DTEND;VALUE=DATE:20181221
DTSTAMP:20260419T203443
CREATED:20181122T141001Z
LAST-MODIFIED:20181122T141001Z
UID:3270-1545264000-1545350399@www.grangetownprimaryschool.co.uk
SUMMARY:Kiddiwinkles Party
DESCRIPTION:
URL:https://www.grangetownprimaryschool.co.uk/event/kiddiwinkles-party/
END:VEVENT
BEGIN:VEVENT
DTSTART;TZID=UTC:20181220T100000
DTEND;TZID=UTC:20181220T120000
DTSTAMP:20260419T203443
CREATED:20181122T140926Z
LAST-MODIFIED:20181122T140926Z
UID:3268-1545300000-1545307200@www.grangetownprimaryschool.co.uk
SUMMARY:Whole School visit to church
DESCRIPTION:
URL:https://www.grangetownprimaryschool.co.uk/event/whole-school-visit-to-church/
END:VEVENT
BEGIN:VEVENT
DTSTART;TZID=UTC:20181220T143000
DTEND;TZID=UTC:20181220T150000
DTSTAMP:20260419T203443
CREATED:20181122T141049Z
LAST-MODIFIED:20181122T141049Z
UID:3272-1545316200-1545318000@www.grangetownprimaryschool.co.uk
SUMMARY:Reception Class - massage & mince pie
DESCRIPTION:
URL:https://www.grangetownprimaryschool.co.uk/event/reception-class-massage-mince-pie/
END:VEVENT
END:VCALENDAR