   BEGIN:VCALENDAR
VERSION:2.0
PRODID:-//Grangetown Primary - ECPv6.15.20//NONSGML v1.0//EN
CALSCALE:GREGORIAN
METHOD:PUBLISH
X-ORIGINAL-URL:https://www.grangetownprimaryschool.co.uk
X-WR-CALDESC:Events for Grangetown Primary
REFRESH-INTERVAL;VALUE=DURATION:PT1H
X-Robots-Tag:noindex
X-PUBLISHED-TTL:PT1H
BEGIN:VTIMEZONE
TZID:UTC
BEGIN:STANDARD
TZOFFSETFROM:+0000
TZOFFSETTO:+0000
TZNAME:UTC
DTSTART:20170101T000000
END:STANDARD
END:VTIMEZONE
BEGIN:VEVENT
DTSTART;TZID=UTC:20181218T123000
DTEND;TZID=UTC:20181218T170000
DTSTAMP:20260419T203443
CREATED:20181122T140745Z
LAST-MODIFIED:20181122T140745Z
UID:3266-1545136200-1545152400@www.grangetownprimaryschool.co.uk
SUMMARY:KS2 Children @ Panto
DESCRIPTION:
URL:https://www.grangetownprimaryschool.co.uk/event/ks2-children-panto/
END:VEVENT
BEGIN:VEVENT
DTSTART;TZID=UTC:20181218T130000
DTEND;TZID=UTC:20181218T150000
DTSTAMP:20260419T203443
CREATED:20181128T081511Z
LAST-MODIFIED:20181128T081511Z
UID:3276-1545138000-1545145200@www.grangetownprimaryschool.co.uk
SUMMARY:KS1 Nativity
DESCRIPTION:
URL:https://www.grangetownprimaryschool.co.uk/event/ks1-nativity/
END:VEVENT
END:VCALENDAR