   BEGIN:VCALENDAR
VERSION:2.0
PRODID:-//Grangetown Primary - ECPv6.15.20//NONSGML v1.0//EN
CALSCALE:GREGORIAN
METHOD:PUBLISH
X-ORIGINAL-URL:https://www.grangetownprimaryschool.co.uk
X-WR-CALDESC:Events for Grangetown Primary
REFRESH-INTERVAL;VALUE=DURATION:PT1H
X-Robots-Tag:noindex
X-PUBLISHED-TTL:PT1H
BEGIN:VTIMEZONE
TZID:UTC
BEGIN:STANDARD
TZOFFSETFROM:+0000
TZOFFSETTO:+0000
TZNAME:UTC
DTSTART:20170101T000000
END:STANDARD
END:VTIMEZONE
BEGIN:VEVENT
DTSTART;VALUE=DATE:20180709
DTEND;VALUE=DATE:20180721
DTSTAMP:20260421T131422
CREATED:20180618T111659Z
LAST-MODIFIED:20180618T111659Z
UID:2981-1531094400-1532131199@www.grangetownprimaryschool.co.uk
SUMMARY:Hillsview Transition
DESCRIPTION:
URL:https://www.grangetownprimaryschool.co.uk/event/hillsview-transition/
END:VEVENT
BEGIN:VEVENT
DTSTART;VALUE=DATE:20180716
DTEND;VALUE=DATE:20180720
DTSTAMP:20260421T131422
CREATED:20180629T133532Z
LAST-MODIFIED:20180629T133532Z
UID:3010-1531699200-1532044799@www.grangetownprimaryschool.co.uk
SUMMARY:Outwood Academy Redcar Transition
DESCRIPTION:
URL:https://www.grangetownprimaryschool.co.uk/event/outwood-academy-redcar-transition/
END:VEVENT
END:VCALENDAR