   BEGIN:VCALENDAR
VERSION:2.0
PRODID:-//Grangetown Primary - ECPv6.15.20//NONSGML v1.0//EN
CALSCALE:GREGORIAN
METHOD:PUBLISH
X-ORIGINAL-URL:https://www.grangetownprimaryschool.co.uk
X-WR-CALDESC:Events for Grangetown Primary
REFRESH-INTERVAL;VALUE=DURATION:PT1H
X-Robots-Tag:noindex
X-PUBLISHED-TTL:PT1H
BEGIN:VTIMEZONE
TZID:UTC
BEGIN:STANDARD
TZOFFSETFROM:+0000
TZOFFSETTO:+0000
TZNAME:UTC
DTSTART:20170101T000000
END:STANDARD
END:VTIMEZONE
BEGIN:VEVENT
DTSTART;VALUE=DATE:20180709
DTEND;VALUE=DATE:20180712
DTSTAMP:20260421T131419
CREATED:20180629T132648Z
LAST-MODIFIED:20180629T132709Z
UID:3003-1531094400-1531353599@www.grangetownprimaryschool.co.uk
SUMMARY:St Peters Transition Days
DESCRIPTION:
URL:https://www.grangetownprimaryschool.co.uk/event/ormesby-outwood-transition-days/
END:VEVENT
BEGIN:VEVENT
DTSTART;VALUE=DATE:20180709
DTEND;VALUE=DATE:20180721
DTSTAMP:20260421T131419
CREATED:20180618T111659Z
LAST-MODIFIED:20180618T111659Z
UID:2981-1531094400-1532131199@www.grangetownprimaryschool.co.uk
SUMMARY:Hillsview Transition
DESCRIPTION:
URL:https://www.grangetownprimaryschool.co.uk/event/hillsview-transition/
END:VEVENT
BEGIN:VEVENT
DTSTART;TZID=UTC:20180710T140000
DTEND;TZID=UTC:20180710T150000
DTSTAMP:20260421T131419
CREATED:20180629T132835Z
LAST-MODIFIED:20180629T132854Z
UID:3006-1531231200-1531234800@www.grangetownprimaryschool.co.uk
SUMMARY:Y1 Teddy Bears Picnic
DESCRIPTION:The children in Year One will be taking part in a Teddy Bear’s Picnic on Tuesday 10th July at 2.00 pm\, and parents are invited to join in.  Your child can bring a teddy or soft toy to take along. \nWe would like to ask parents to bring a blanket to sit on as we will be having this picnic on our school’s field if the weather is sunny. Any parents wishing to come should arrive at year 1’s classroom door for 1.55 pm.
URL:https://www.grangetownprimaryschool.co.uk/event/y1-teddy-bears-picnic/
END:VEVENT
END:VCALENDAR