   BEGIN:VCALENDAR
VERSION:2.0
PRODID:-//Grangetown Primary - ECPv6.15.20//NONSGML v1.0//EN
CALSCALE:GREGORIAN
METHOD:PUBLISH
X-ORIGINAL-URL:https://www.grangetownprimaryschool.co.uk
X-WR-CALDESC:Events for Grangetown Primary
REFRESH-INTERVAL;VALUE=DURATION:PT1H
X-Robots-Tag:noindex
X-PUBLISHED-TTL:PT1H
BEGIN:VTIMEZONE
TZID:UTC
BEGIN:STANDARD
TZOFFSETFROM:+0000
TZOFFSETTO:+0000
TZNAME:UTC
DTSTART:20170101T000000
END:STANDARD
END:VTIMEZONE
BEGIN:VEVENT
DTSTART;VALUE=DATE:20180706
DTEND;VALUE=DATE:20180707
DTSTAMP:20260421T131423
CREATED:20180220T163827Z
LAST-MODIFIED:20180220T163827Z
UID:2578-1530835200-1530921599@www.grangetownprimaryschool.co.uk
SUMMARY:Hillsview's Y6 Children Final Day at School
DESCRIPTION:All the children who are allocated to Hillsview will be leaving on this date to start their transition on 9th July
URL:https://www.grangetownprimaryschool.co.uk/event/hillsviews-y6-children-final-day-at-school/
END:VEVENT
BEGIN:VEVENT
DTSTART;VALUE=DATE:20180706
DTEND;VALUE=DATE:20180707
DTSTAMP:20260421T131423
CREATED:20180618T111221Z
LAST-MODIFIED:20180618T111221Z
UID:2971-1530835200-1530921599@www.grangetownprimaryschool.co.uk
SUMMARY:Children who are going to Hillsview -Final Day
DESCRIPTION:
URL:https://www.grangetownprimaryschool.co.uk/event/children-who-are-going-to-hillsview-final-day/
END:VEVENT
END:VCALENDAR