   BEGIN:VCALENDAR
VERSION:2.0
PRODID:-//Grangetown Primary - ECPv6.15.20//NONSGML v1.0//EN
CALSCALE:GREGORIAN
METHOD:PUBLISH
X-WR-CALNAME:Grangetown Primary
X-ORIGINAL-URL:https://www.grangetownprimaryschool.co.uk
X-WR-CALDESC:Events for Grangetown Primary
REFRESH-INTERVAL;VALUE=DURATION:PT1H
X-Robots-Tag:noindex
X-PUBLISHED-TTL:PT1H
BEGIN:VTIMEZONE
TZID:UTC
BEGIN:STANDARD
TZOFFSETFROM:+0000
TZOFFSETTO:+0000
TZNAME:UTC
DTSTART:20170101T000000
END:STANDARD
END:VTIMEZONE
BEGIN:VEVENT
DTSTART;TZID=UTC:20180702T080000
DTEND;TZID=UTC:20180705T170000
DTSTAMP:20260421T131225
CREATED:20180629T132254Z
LAST-MODIFIED:20180629T132254Z
UID:2995-1530518400-1530810000@www.grangetownprimaryschool.co.uk
SUMMARY:Acklam Outwood Transition Days
DESCRIPTION:
URL:https://www.grangetownprimaryschool.co.uk/event/acklam-outwood-transition-days/
END:VEVENT
BEGIN:VEVENT
DTSTART;VALUE=DATE:20180704
DTEND;VALUE=DATE:20180705
DTSTAMP:20260421T131225
CREATED:20180618T111017Z
LAST-MODIFIED:20180618T111017Z
UID:2967-1530662400-1530748799@www.grangetownprimaryschool.co.uk
SUMMARY:KS1 / KS2 Sport's Day
DESCRIPTION:
URL:https://www.grangetownprimaryschool.co.uk/event/ks1-ks2-sports-day/
END:VEVENT
BEGIN:VEVENT
DTSTART;VALUE=DATE:20180704
DTEND;VALUE=DATE:20180705
DTSTAMP:20260421T131225
CREATED:20180629T132440Z
LAST-MODIFIED:20180629T132440Z
UID:3001-1530662400-1530748799@www.grangetownprimaryschool.co.uk
SUMMARY:Sports Day
DESCRIPTION:
URL:https://www.grangetownprimaryschool.co.uk/event/sports-day/
END:VEVENT
END:VCALENDAR