   BEGIN:VCALENDAR
VERSION:2.0
PRODID:-//Grangetown Primary - ECPv6.15.20//NONSGML v1.0//EN
CALSCALE:GREGORIAN
METHOD:PUBLISH
X-ORIGINAL-URL:https://www.grangetownprimaryschool.co.uk
X-WR-CALDESC:Events for Grangetown Primary
REFRESH-INTERVAL;VALUE=DURATION:PT1H
X-Robots-Tag:noindex
X-PUBLISHED-TTL:PT1H
BEGIN:VTIMEZONE
TZID:UTC
BEGIN:STANDARD
TZOFFSETFROM:+0000
TZOFFSETTO:+0000
TZNAME:UTC
DTSTART:20170101T000000
END:STANDARD
END:VTIMEZONE
BEGIN:VEVENT
DTSTART;VALUE=DATE:20180702
DTEND;VALUE=DATE:20180703
DTSTAMP:20260421T131437
CREATED:20180618T110945Z
LAST-MODIFIED:20180618T110945Z
UID:2965-1530489600-1530575999@www.grangetownprimaryschool.co.uk
SUMMARY:Morning Nursery Transition to Reception Day
DESCRIPTION:Letter will be sent to parents – invite to spend lunch with the child
URL:https://www.grangetownprimaryschool.co.uk/event/morning-nursery-transition-to-reception-day/
END:VEVENT
BEGIN:VEVENT
DTSTART;TZID=UTC:20180702T080000
DTEND;TZID=UTC:20180705T170000
DTSTAMP:20260421T131437
CREATED:20180629T132254Z
LAST-MODIFIED:20180629T132254Z
UID:2995-1530518400-1530810000@www.grangetownprimaryschool.co.uk
SUMMARY:Acklam Outwood Transition Days
DESCRIPTION:
URL:https://www.grangetownprimaryschool.co.uk/event/acklam-outwood-transition-days/
END:VEVENT
BEGIN:VEVENT
DTSTART;TZID=UTC:20180702T093000
DTEND;TZID=UTC:20180702T103000
DTSTAMP:20260421T131437
CREATED:20180220T163705Z
LAST-MODIFIED:20180220T163705Z
UID:2576-1530523800-1530527400@www.grangetownprimaryschool.co.uk
SUMMARY:Salvation Army Assembly
DESCRIPTION:
URL:https://www.grangetownprimaryschool.co.uk/event/salvation-army-assembly-2/
END:VEVENT
BEGIN:VEVENT
DTSTART;TZID=UTC:20180702T103000
DTEND;TZID=UTC:20180702T123000
DTSTAMP:20260421T131437
CREATED:20180629T132336Z
LAST-MODIFIED:20180629T132336Z
UID:2997-1530527400-1530534600@www.grangetownprimaryschool.co.uk
SUMMARY:Morning Nursery / New Reception Starters Meeting
DESCRIPTION:
URL:https://www.grangetownprimaryschool.co.uk/event/morning-nursery-new-reception-starters-meeting/
END:VEVENT
END:VCALENDAR