   BEGIN:VCALENDAR
VERSION:2.0
PRODID:-//Grangetown Primary - ECPv6.15.20//NONSGML v1.0//EN
CALSCALE:GREGORIAN
METHOD:PUBLISH
X-WR-CALNAME:Grangetown Primary
X-ORIGINAL-URL:https://www.grangetownprimaryschool.co.uk
X-WR-CALDESC:Events for Grangetown Primary
REFRESH-INTERVAL;VALUE=DURATION:PT1H
X-Robots-Tag:noindex
X-PUBLISHED-TTL:PT1H
BEGIN:VTIMEZONE
TZID:UTC
BEGIN:STANDARD
TZOFFSETFROM:+0000
TZOFFSETTO:+0000
TZNAME:UTC
DTSTART:20170101T000000
END:STANDARD
END:VTIMEZONE
BEGIN:VEVENT
DTSTART;TZID=UTC:20180622T090000
DTEND;TZID=UTC:20180622T093000
DTSTAMP:20260421T143836
CREATED:20180618T110726Z
LAST-MODIFIED:20180618T110726Z
UID:2961-1529658000-1529659800@www.grangetownprimaryschool.co.uk
SUMMARY:Y5 Assembly
DESCRIPTION:
URL:https://www.grangetownprimaryschool.co.uk/event/y5-assembly/
END:VEVENT
BEGIN:VEVENT
DTSTART;TZID=UTC:20180622T130000
DTEND;TZID=UTC:20180622T150000
DTSTAMP:20260421T143836
CREATED:20180618T080400Z
LAST-MODIFIED:20180618T080400Z
UID:2953-1529672400-1529679600@www.grangetownprimaryschool.co.uk
SUMMARY:Fun Day
DESCRIPTION:
URL:https://www.grangetownprimaryschool.co.uk/event/fun-day/
END:VEVENT
END:VCALENDAR