   BEGIN:VCALENDAR
VERSION:2.0
PRODID:-//Grangetown Primary - ECPv6.15.20//NONSGML v1.0//EN
CALSCALE:GREGORIAN
METHOD:PUBLISH
X-WR-CALNAME:Grangetown Primary
X-ORIGINAL-URL:https://www.grangetownprimaryschool.co.uk
X-WR-CALDESC:Events for Grangetown Primary
REFRESH-INTERVAL;VALUE=DURATION:PT1H
X-Robots-Tag:noindex
X-PUBLISHED-TTL:PT1H
BEGIN:VTIMEZONE
TZID:UTC
BEGIN:STANDARD
TZOFFSETFROM:+0000
TZOFFSETTO:+0000
TZNAME:UTC
DTSTART:20170101T000000
END:STANDARD
END:VTIMEZONE
BEGIN:VEVENT
DTSTART;TZID=UTC:20180619T090000
DTEND;TZID=UTC:20180619T100000
DTSTAMP:20260421T143848
CREATED:20180618T080441Z
LAST-MODIFIED:20180618T080441Z
UID:2955-1529398800-1529402400@www.grangetownprimaryschool.co.uk
SUMMARY:Dental Health Assembly
DESCRIPTION:
URL:https://www.grangetownprimaryschool.co.uk/event/dental-health-assembly/
END:VEVENT
BEGIN:VEVENT
DTSTART;TZID=UTC:20180619T090000
DTEND;TZID=UTC:20180619T120000
DTSTAMP:20260421T143848
CREATED:20180618T080551Z
LAST-MODIFIED:20180618T080551Z
UID:2957-1529398800-1529409600@www.grangetownprimaryschool.co.uk
SUMMARY:Y4 Arts Exhibition at CCAD
DESCRIPTION:
URL:https://www.grangetownprimaryschool.co.uk/event/y4-arts-exhibition-at-ccad/
END:VEVENT
BEGIN:VEVENT
DTSTART;TZID=UTC:20180619T100000
DTEND;TZID=UTC:20180619T140000
DTSTAMP:20260421T143848
CREATED:20180618T080325Z
LAST-MODIFIED:20180618T080325Z
UID:2951-1529402400-1529416800@www.grangetownprimaryschool.co.uk
SUMMARY:Afternoon Kiddiwinkles Trip
DESCRIPTION:to Newham Grange Country Farm – We will be travelling by minibus leaving school at 10.00 am and returning by 2.00 pm
URL:https://www.grangetownprimaryschool.co.uk/event/afternoon-kiddiwinkles-trip/
END:VEVENT
END:VCALENDAR