   BEGIN:VCALENDAR
VERSION:2.0
PRODID:-//Grangetown Primary - ECPv6.15.20//NONSGML v1.0//EN
CALSCALE:GREGORIAN
METHOD:PUBLISH
X-WR-CALNAME:Grangetown Primary
X-ORIGINAL-URL:https://www.grangetownprimaryschool.co.uk
X-WR-CALDESC:Events for Grangetown Primary
REFRESH-INTERVAL;VALUE=DURATION:PT1H
X-Robots-Tag:noindex
X-PUBLISHED-TTL:PT1H
BEGIN:VTIMEZONE
TZID:UTC
BEGIN:STANDARD
TZOFFSETFROM:+0000
TZOFFSETTO:+0000
TZNAME:UTC
DTSTART:20170101T000000
END:STANDARD
END:VTIMEZONE
BEGIN:VEVENT
DTSTART;VALUE=DATE:20180618
DTEND;VALUE=DATE:20180619
DTSTAMP:20260421T143848
CREATED:20180618T080802Z
LAST-MODIFIED:20180618T080802Z
UID:2959-1529280000-1529366399@www.grangetownprimaryschool.co.uk
SUMMARY:Artist to come in and work with KS1 Children
DESCRIPTION:
URL:https://www.grangetownprimaryschool.co.uk/event/artist-to-come-in-and-work-with-ks1-children/
END:VEVENT
BEGIN:VEVENT
DTSTART;TZID=UTC:20180618T080000
DTEND;TZID=UTC:20180618T170000
DTSTAMP:20260421T143848
CREATED:20180618T111253Z
LAST-MODIFIED:20180618T111253Z
UID:2973-1529308800-1529341200@www.grangetownprimaryschool.co.uk
SUMMARY:Y6 Leavers Assembly
DESCRIPTION:Letter will be sent to invite parents to the event
URL:https://www.grangetownprimaryschool.co.uk/event/y6-leavers-assembly/
END:VEVENT
BEGIN:VEVENT
DTSTART;TZID=UTC:20180618T080000
DTEND;TZID=UTC:20180618T170000
DTSTAMP:20260421T143848
CREATED:20180618T111327Z
LAST-MODIFIED:20180618T111327Z
UID:2975-1529308800-1529341200@www.grangetownprimaryschool.co.uk
SUMMARY:Y5 Durham University Graduation Trip
DESCRIPTION:Letter will be sent to parents about this event
URL:https://www.grangetownprimaryschool.co.uk/event/y5-durham-university-graduation-trip/
END:VEVENT
BEGIN:VEVENT
DTSTART;TZID=UTC:20180618T100000
DTEND;TZID=UTC:20180618T140000
DTSTAMP:20260421T143848
CREATED:20180618T075955Z
LAST-MODIFIED:20180618T075955Z
UID:2949-1529316000-1529330400@www.grangetownprimaryschool.co.uk
SUMMARY:Morning Kiddiwinkles Nursery Trip
DESCRIPTION:Newham Grange Country Farm – We will be travelling by minibus leaving school at 10.00 am and returning by 2.00 pm.
URL:https://www.grangetownprimaryschool.co.uk/event/morning-kiddiwinkles-nursery-trip/
END:VEVENT
END:VCALENDAR