   BEGIN:VCALENDAR
VERSION:2.0
PRODID:-//Grangetown Primary - ECPv6.15.20//NONSGML v1.0//EN
CALSCALE:GREGORIAN
METHOD:PUBLISH
X-WR-CALNAME:Grangetown Primary
X-ORIGINAL-URL:https://www.grangetownprimaryschool.co.uk
X-WR-CALDESC:Events for Grangetown Primary
REFRESH-INTERVAL;VALUE=DURATION:PT1H
X-Robots-Tag:noindex
X-PUBLISHED-TTL:PT1H
BEGIN:VTIMEZONE
TZID:UTC
BEGIN:STANDARD
TZOFFSETFROM:+0000
TZOFFSETTO:+0000
TZNAME:UTC
DTSTART:20170101T000000
END:STANDARD
END:VTIMEZONE
BEGIN:VEVENT
DTSTART;TZID=UTC:20180611T080000
DTEND;TZID=UTC:20180613T170000
DTSTAMP:20260421T143846
CREATED:20180220T161953Z
LAST-MODIFIED:20180220T161953Z
UID:2541-1528704000-1528909200@www.grangetownprimaryschool.co.uk
SUMMARY:Y6 London Trip
DESCRIPTION:
URL:https://www.grangetownprimaryschool.co.uk/event/y6-london-trip/
END:VEVENT
BEGIN:VEVENT
DTSTART;TZID=UTC:20180611T190000
DTEND;TZID=UTC:20180611T210000
DTSTAMP:20260421T143846
CREATED:20180424T074342Z
LAST-MODIFIED:20180424T074342Z
UID:2863-1528743600-1528750800@www.grangetownprimaryschool.co.uk
SUMMARY:Disney Choir at Middlesbrough Schools Gotta Sing Show
DESCRIPTION:
URL:https://www.grangetownprimaryschool.co.uk/event/disney-choir-at-middlesbrough-schools-gotta-sing-show/
END:VEVENT
END:VCALENDAR