   BEGIN:VCALENDAR
VERSION:2.0
PRODID:-//Grangetown Primary - ECPv6.15.20//NONSGML v1.0//EN
CALSCALE:GREGORIAN
METHOD:PUBLISH
X-WR-CALNAME:Grangetown Primary
X-ORIGINAL-URL:https://www.grangetownprimaryschool.co.uk
X-WR-CALDESC:Events for Grangetown Primary
REFRESH-INTERVAL;VALUE=DURATION:PT1H
X-Robots-Tag:noindex
X-PUBLISHED-TTL:PT1H
BEGIN:VTIMEZONE
TZID:UTC
BEGIN:STANDARD
TZOFFSETFROM:+0000
TZOFFSETTO:+0000
TZNAME:UTC
DTSTART:20170101T000000
END:STANDARD
END:VTIMEZONE
BEGIN:VEVENT
DTSTART;VALUE=DATE:20180606
DTEND;VALUE=DATE:20180607
DTSTAMP:20260421T143836
CREATED:20180424T074259Z
LAST-MODIFIED:20180501T110912Z
UID:2861-1528243200-1528329599@www.grangetownprimaryschool.co.uk
SUMMARY:Disney Choir lunch time Club
DESCRIPTION:
URL:https://www.grangetownprimaryschool.co.uk/event/disney-choir-after-school-club-6/
END:VEVENT
BEGIN:VEVENT
DTSTART;VALUE=DATE:20180606
DTEND;VALUE=DATE:20180607
DTSTAMP:20260421T143836
CREATED:20180511T125419Z
LAST-MODIFIED:20180511T125419Z
UID:2899-1528243200-1528329599@www.grangetownprimaryschool.co.uk
SUMMARY:Y6 Kidz Konnect Trip
DESCRIPTION:
URL:https://www.grangetownprimaryschool.co.uk/event/y6-kidz-konnect-trip/
END:VEVENT
END:VCALENDAR