   BEGIN:VCALENDAR
VERSION:2.0
PRODID:-//Grangetown Primary - ECPv6.15.20//NONSGML v1.0//EN
CALSCALE:GREGORIAN
METHOD:PUBLISH
X-ORIGINAL-URL:https://www.grangetownprimaryschool.co.uk
X-WR-CALDESC:Events for Grangetown Primary
REFRESH-INTERVAL;VALUE=DURATION:PT1H
X-Robots-Tag:noindex
X-PUBLISHED-TTL:PT1H
BEGIN:VTIMEZONE
TZID:UTC
BEGIN:STANDARD
TZOFFSETFROM:+0000
TZOFFSETTO:+0000
TZNAME:UTC
DTSTART:20170101T000000
END:STANDARD
END:VTIMEZONE
BEGIN:VEVENT
DTSTART;VALUE=DATE:20180525
DTEND;VALUE=DATE:20180526
DTSTAMP:20260421T160202
CREATED:20180220T162124Z
LAST-MODIFIED:20180220T162124Z
UID:2545-1527206400-1527292799@www.grangetownprimaryschool.co.uk
SUMMARY:Y6 London Final Balance due
DESCRIPTION:£60.00
URL:https://www.grangetownprimaryschool.co.uk/event/y6-london-final-balance-due/
END:VEVENT
BEGIN:VEVENT
DTSTART;VALUE=DATE:20180525
DTEND;VALUE=DATE:20180526
DTSTAMP:20260421T160202
CREATED:20180220T163201Z
LAST-MODIFIED:20180220T163201Z
UID:2567-1527206400-1527292799@www.grangetownprimaryschool.co.uk
SUMMARY:Last day of school
DESCRIPTION:
URL:https://www.grangetownprimaryschool.co.uk/event/last-day-of-school-2/
END:VEVENT
BEGIN:VEVENT
DTSTART;VALUE=DATE:20180525
DTEND;VALUE=DATE:20180526
DTSTAMP:20260421T160202
CREATED:20180424T072203Z
LAST-MODIFIED:20180424T072203Z
UID:2834-1527206400-1527292799@www.grangetownprimaryschool.co.uk
SUMMARY:Film Club After School
DESCRIPTION:
URL:https://www.grangetownprimaryschool.co.uk/event/film-club-after-school-6/
END:VEVENT
BEGIN:VEVENT
DTSTART;TZID=UTC:20180525T080000
DTEND;TZID=UTC:20180525T170000
DTSTAMP:20260421T160202
CREATED:20180424T072140Z
LAST-MODIFIED:20180424T072140Z
UID:2832-1527235200-1527267600@www.grangetownprimaryschool.co.uk
SUMMARY:Middlesbrough FC Stepping Up After School Club
DESCRIPTION:
URL:https://www.grangetownprimaryschool.co.uk/event/middlesbrough-fc-stepping-up-after-school-club-7/
END:VEVENT
END:VCALENDAR