   BEGIN:VCALENDAR
VERSION:2.0
PRODID:-//Grangetown Primary - ECPv6.15.20//NONSGML v1.0//EN
CALSCALE:GREGORIAN
METHOD:PUBLISH
X-ORIGINAL-URL:https://www.grangetownprimaryschool.co.uk
X-WR-CALDESC:Events for Grangetown Primary
REFRESH-INTERVAL;VALUE=DURATION:PT1H
X-Robots-Tag:noindex
X-PUBLISHED-TTL:PT1H
BEGIN:VTIMEZONE
TZID:UTC
BEGIN:STANDARD
TZOFFSETFROM:+0000
TZOFFSETTO:+0000
TZNAME:UTC
DTSTART:20170101T000000
END:STANDARD
END:VTIMEZONE
BEGIN:VEVENT
DTSTART;VALUE=DATE:20180514
DTEND;VALUE=DATE:20180518
DTSTAMP:20260421T160154
CREATED:20180511T115943Z
LAST-MODIFIED:20180511T115943Z
UID:2886-1526256000-1526601599@www.grangetownprimaryschool.co.uk
SUMMARY:SATS Week
DESCRIPTION:
URL:https://www.grangetownprimaryschool.co.uk/event/sats-week/
END:VEVENT
BEGIN:VEVENT
DTSTART;VALUE=DATE:20180517
DTEND;VALUE=DATE:20180518
DTSTAMP:20260421T160154
CREATED:20180423T134641Z
LAST-MODIFIED:20180423T134641Z
UID:2795-1526515200-1526601599@www.grangetownprimaryschool.co.uk
SUMMARY:KS1 & KS2 Football Academy After School Club
DESCRIPTION:
URL:https://www.grangetownprimaryschool.co.uk/event/ks1-ks2-football-academy-after-school-club-4/
END:VEVENT
BEGIN:VEVENT
DTSTART;VALUE=DATE:20180517
DTEND;VALUE=DATE:20180518
DTSTAMP:20260421T160154
CREATED:20180424T073912Z
LAST-MODIFIED:20180424T073912Z
UID:2847-1526515200-1526601599@www.grangetownprimaryschool.co.uk
SUMMARY:Y3 Swimming
DESCRIPTION:
URL:https://www.grangetownprimaryschool.co.uk/event/y3-swimming-4/
END:VEVENT
END:VCALENDAR