   BEGIN:VCALENDAR
VERSION:2.0
PRODID:-//Grangetown Primary - ECPv6.15.20//NONSGML v1.0//EN
CALSCALE:GREGORIAN
METHOD:PUBLISH
X-ORIGINAL-URL:https://www.grangetownprimaryschool.co.uk
X-WR-CALDESC:Events for Grangetown Primary
REFRESH-INTERVAL;VALUE=DURATION:PT1H
X-Robots-Tag:noindex
X-PUBLISHED-TTL:PT1H
BEGIN:VTIMEZONE
TZID:UTC
BEGIN:STANDARD
TZOFFSETFROM:+0000
TZOFFSETTO:+0000
TZNAME:UTC
DTSTART:20170101T000000
END:STANDARD
END:VTIMEZONE
BEGIN:VEVENT
DTSTART;VALUE=DATE:20180511
DTEND;VALUE=DATE:20180512
DTSTAMP:20260421T160219
CREATED:20180423T134922Z
LAST-MODIFIED:20180423T134922Z
UID:2803-1525996800-1526083199@www.grangetownprimaryschool.co.uk
SUMMARY:Y5 & Y6 Tennis After School Club
DESCRIPTION:
URL:https://www.grangetownprimaryschool.co.uk/event/y5-y6-tennis-after-school-club-3/
END:VEVENT
BEGIN:VEVENT
DTSTART;VALUE=DATE:20180511
DTEND;VALUE=DATE:20180512
DTSTAMP:20260421T160219
CREATED:20180424T071615Z
LAST-MODIFIED:20180424T071615Z
UID:2815-1525996800-1526083199@www.grangetownprimaryschool.co.uk
SUMMARY:Film Club - After School
DESCRIPTION:
URL:https://www.grangetownprimaryschool.co.uk/event/film-club-after-school-4/
END:VEVENT
BEGIN:VEVENT
DTSTART;VALUE=DATE:20180511
DTEND;VALUE=DATE:20180512
DTSTAMP:20260421T160219
CREATED:20180424T072108Z
LAST-MODIFIED:20180424T072108Z
UID:2828-1525996800-1526083199@www.grangetownprimaryschool.co.uk
SUMMARY:Middlesbrough FC Stepping Up After School Club
DESCRIPTION:
URL:https://www.grangetownprimaryschool.co.uk/event/middlesbrough-fc-stepping-up-after-school-club-5/
END:VEVENT
BEGIN:VEVENT
DTSTART;TZID=UTC:20180511T130000
DTEND;TZID=UTC:20180511T150000
DTSTAMP:20260421T160219
CREATED:20180511T124214Z
LAST-MODIFIED:20180511T124214Z
UID:2890-1526043600-1526050800@www.grangetownprimaryschool.co.uk
SUMMARY:Y2 Athletics @ Whale Hill primary
DESCRIPTION:
URL:https://www.grangetownprimaryschool.co.uk/event/y2-athletics-whale-hill-primary/
END:VEVENT
END:VCALENDAR