   BEGIN:VCALENDAR
VERSION:2.0
PRODID:-//Grangetown Primary - ECPv6.15.20//NONSGML v1.0//EN
CALSCALE:GREGORIAN
METHOD:PUBLISH
X-ORIGINAL-URL:https://www.grangetownprimaryschool.co.uk
X-WR-CALDESC:Events for Grangetown Primary
REFRESH-INTERVAL;VALUE=DURATION:PT1H
X-Robots-Tag:noindex
X-PUBLISHED-TTL:PT1H
BEGIN:VTIMEZONE
TZID:UTC
BEGIN:STANDARD
TZOFFSETFROM:+0000
TZOFFSETTO:+0000
TZNAME:UTC
DTSTART:20170101T000000
END:STANDARD
END:VTIMEZONE
BEGIN:VEVENT
DTSTART;VALUE=DATE:20180504
DTEND;VALUE=DATE:20180505
DTSTAMP:20260421T160203
CREATED:20180423T134857Z
LAST-MODIFIED:20180423T134857Z
UID:2801-1525392000-1525478399@www.grangetownprimaryschool.co.uk
SUMMARY:Y5 & Y6 Tennis After School Club
DESCRIPTION:
URL:https://www.grangetownprimaryschool.co.uk/event/y5-y6-tennis-after-school-club-2/
END:VEVENT
BEGIN:VEVENT
DTSTART;VALUE=DATE:20180504
DTEND;VALUE=DATE:20180505
DTSTAMP:20260421T160203
CREATED:20180424T071601Z
LAST-MODIFIED:20180424T071601Z
UID:2813-1525392000-1525478399@www.grangetownprimaryschool.co.uk
SUMMARY:Film Club - After School
DESCRIPTION:
URL:https://www.grangetownprimaryschool.co.uk/event/film-club-after-school-3/
END:VEVENT
BEGIN:VEVENT
DTSTART;VALUE=DATE:20180504
DTEND;VALUE=DATE:20180505
DTSTAMP:20260421T160203
CREATED:20180424T072055Z
LAST-MODIFIED:20180424T072055Z
UID:2826-1525392000-1525478399@www.grangetownprimaryschool.co.uk
SUMMARY:Middlesbrough FC Stepping Up After School Club
DESCRIPTION:
URL:https://www.grangetownprimaryschool.co.uk/event/middlesbrough-fc-stepping-up-after-school-club-4/
END:VEVENT
END:VCALENDAR