   BEGIN:VCALENDAR
VERSION:2.0
PRODID:-//Grangetown Primary - ECPv6.15.20//NONSGML v1.0//EN
CALSCALE:GREGORIAN
METHOD:PUBLISH
X-ORIGINAL-URL:https://www.grangetownprimaryschool.co.uk
X-WR-CALDESC:Events for Grangetown Primary
REFRESH-INTERVAL;VALUE=DURATION:PT1H
X-Robots-Tag:noindex
X-PUBLISHED-TTL:PT1H
BEGIN:VTIMEZONE
TZID:UTC
BEGIN:STANDARD
TZOFFSETFROM:+0000
TZOFFSETTO:+0000
TZNAME:UTC
DTSTART:20170101T000000
END:STANDARD
END:VTIMEZONE
BEGIN:VEVENT
DTSTART;VALUE=DATE:20180427
DTEND;VALUE=DATE:20180428
DTSTAMP:20260421T173255
CREATED:20180423T134839Z
LAST-MODIFIED:20180423T134839Z
UID:2799-1524787200-1524873599@www.grangetownprimaryschool.co.uk
SUMMARY:Y5 & Y6 Tennis After School Club
DESCRIPTION:
URL:https://www.grangetownprimaryschool.co.uk/event/y5-y6-tennis-after-school-club/
END:VEVENT
BEGIN:VEVENT
DTSTART;VALUE=DATE:20180427
DTEND;VALUE=DATE:20180428
DTSTAMP:20260421T173255
CREATED:20180424T071543Z
LAST-MODIFIED:20180424T071543Z
UID:2811-1524787200-1524873599@www.grangetownprimaryschool.co.uk
SUMMARY:Film Club - After School
DESCRIPTION:
URL:https://www.grangetownprimaryschool.co.uk/event/film-club-after-school-2/
END:VEVENT
BEGIN:VEVENT
DTSTART;VALUE=DATE:20180427
DTEND;VALUE=DATE:20180428
DTSTAMP:20260421T173255
CREATED:20180424T071804Z
LAST-MODIFIED:20180424T071804Z
UID:2822-1524787200-1524873599@www.grangetownprimaryschool.co.uk
SUMMARY:Middlesbrough FC Stepping Up After School Club
DESCRIPTION:
URL:https://www.grangetownprimaryschool.co.uk/event/middlesbrough-fc-stepping-up-after-school-club-2/
END:VEVENT
BEGIN:VEVENT
DTSTART;VALUE=DATE:20180427
DTEND;VALUE=DATE:20180428
DTSTAMP:20260421T173255
CREATED:20180424T072042Z
LAST-MODIFIED:20180424T072042Z
UID:2824-1524787200-1524873599@www.grangetownprimaryschool.co.uk
SUMMARY:Middlesbrough FC Stepping Up After School Club
DESCRIPTION:
URL:https://www.grangetownprimaryschool.co.uk/event/middlesbrough-fc-stepping-up-after-school-club-3/
END:VEVENT
BEGIN:VEVENT
DTSTART;TZID=UTC:20180427T130000
DTEND;TZID=UTC:20180427T150000
DTSTAMP:20260421T173255
CREATED:20180424T075922Z
LAST-MODIFIED:20180424T075922Z
UID:2865-1524834000-1524841200@www.grangetownprimaryschool.co.uk
SUMMARY:Y3 Miss O'Hare Class - Science Learning on Forces
DESCRIPTION:
URL:https://www.grangetownprimaryschool.co.uk/event/y3-miss-ohare-class-science-learning-on-forces/
END:VEVENT
BEGIN:VEVENT
DTSTART;TZID=UTC:20180427T133000
DTEND;TZID=UTC:20180427T143000
DTSTAMP:20260421T173255
CREATED:20180423T132728Z
LAST-MODIFIED:20180423T132728Z
UID:2760-1524835800-1524839400@www.grangetownprimaryschool.co.uk
SUMMARY:Y3 Nurture Trip to Grangetown Park
DESCRIPTION:
URL:https://www.grangetownprimaryschool.co.uk/event/y3-nurture-trip-to-grangetown-park/
END:VEVENT
END:VCALENDAR