   BEGIN:VCALENDAR
VERSION:2.0
PRODID:-//Grangetown Primary - ECPv6.15.20//NONSGML v1.0//EN
CALSCALE:GREGORIAN
METHOD:PUBLISH
X-ORIGINAL-URL:https://www.grangetownprimaryschool.co.uk
X-WR-CALDESC:Events for Grangetown Primary
REFRESH-INTERVAL;VALUE=DURATION:PT1H
X-Robots-Tag:noindex
X-PUBLISHED-TTL:PT1H
BEGIN:VTIMEZONE
TZID:UTC
BEGIN:STANDARD
TZOFFSETFROM:+0000
TZOFFSETTO:+0000
TZNAME:UTC
DTSTART:20170101T000000
END:STANDARD
END:VTIMEZONE
BEGIN:VEVENT
DTSTART;VALUE=DATE:20180301
DTEND;VALUE=DATE:20180302
DTSTAMP:20260421T190838
CREATED:20180220T161541Z
LAST-MODIFIED:20180220T161541Z
UID:2535-1519862400-1519948799@www.grangetownprimaryschool.co.uk
SUMMARY:World Book's Day
DESCRIPTION:It is an opportunity for all the children to come in and dress up as their favourite character from a book.
URL:https://www.grangetownprimaryschool.co.uk/event/world-books-day/
END:VEVENT
END:VCALENDAR