   BEGIN:VCALENDAR
VERSION:2.0
PRODID:-//Grangetown Primary - ECPv6.15.20//NONSGML v1.0//EN
CALSCALE:GREGORIAN
METHOD:PUBLISH
X-ORIGINAL-URL:https://www.grangetownprimaryschool.co.uk
X-WR-CALDESC:Events for Grangetown Primary
REFRESH-INTERVAL;VALUE=DURATION:PT1H
X-Robots-Tag:noindex
X-PUBLISHED-TTL:PT1H
BEGIN:VTIMEZONE
TZID:UTC
BEGIN:STANDARD
TZOFFSETFROM:+0000
TZOFFSETTO:+0000
TZNAME:UTC
DTSTART:20170101T000000
END:STANDARD
END:VTIMEZONE
BEGIN:VEVENT
DTSTART;TZID=UTC:20180221T100000
DTEND;TZID=UTC:20180221T230000
DTSTAMP:20260421T205245
CREATED:20180220T144142Z
LAST-MODIFIED:20180220T144142Z
UID:2533-1519207200-1519254000@www.grangetownprimaryschool.co.uk
SUMMARY:Mrs Oliver & Miss Jarred's Parenting Group
DESCRIPTION:
URL:https://www.grangetownprimaryschool.co.uk/event/mrs-oliver-miss-jarreds-parenting-group/
END:VEVENT
END:VCALENDAR