   BEGIN:VCALENDAR
VERSION:2.0
PRODID:-//Grangetown Primary - ECPv6.15.20//NONSGML v1.0//EN
CALSCALE:GREGORIAN
METHOD:PUBLISH
X-ORIGINAL-URL:https://www.grangetownprimaryschool.co.uk
X-WR-CALDESC:Events for Grangetown Primary
REFRESH-INTERVAL;VALUE=DURATION:PT1H
X-Robots-Tag:noindex
X-PUBLISHED-TTL:PT1H
BEGIN:VTIMEZONE
TZID:UTC
BEGIN:STANDARD
TZOFFSETFROM:+0000
TZOFFSETTO:+0000
TZNAME:UTC
DTSTART:20170101T000000
END:STANDARD
END:VTIMEZONE
BEGIN:VEVENT
DTSTART;TZID=UTC:20180208T130000
DTEND;TZID=UTC:20180208T154500
DTSTAMP:20260421T203258
CREATED:20180205T115144Z
LAST-MODIFIED:20180205T115200Z
UID:2510-1518094800-1518104700@www.grangetownprimaryschool.co.uk
SUMMARY:Y2 Net and Wall
DESCRIPTION:
URL:https://www.grangetownprimaryschool.co.uk/event/y2-net-and-wall/
END:VEVENT
END:VCALENDAR