   BEGIN:VCALENDAR
VERSION:2.0
PRODID:-//Grangetown Primary - ECPv6.15.20//NONSGML v1.0//EN
CALSCALE:GREGORIAN
METHOD:PUBLISH
X-WR-CALNAME:Grangetown Primary
X-ORIGINAL-URL:https://www.grangetownprimaryschool.co.uk
X-WR-CALDESC:Events for Grangetown Primary
REFRESH-INTERVAL;VALUE=DURATION:PT1H
X-Robots-Tag:noindex
X-PUBLISHED-TTL:PT1H
BEGIN:VTIMEZONE
TZID:UTC
BEGIN:STANDARD
TZOFFSETFROM:+0000
TZOFFSETTO:+0000
TZNAME:UTC
DTSTART:20160101T000000
END:STANDARD
END:VTIMEZONE
BEGIN:VEVENT
DTSTART;TZID=UTC:20171204T080000
DTEND;TZID=UTC:20171208T170000
DTSTAMP:20260421T233605
CREATED:20171206T142932Z
LAST-MODIFIED:20171206T142932Z
UID:2417-1512374400-1512752400@www.grangetownprimaryschool.co.uk
SUMMARY:Book Fair
DESCRIPTION:
URL:https://www.grangetownprimaryschool.co.uk/event/book-fair/
END:VEVENT
BEGIN:VEVENT
DTSTART;TZID=UTC:20171208T080000
DTEND;TZID=UTC:20171208T120000
DTSTAMP:20260421T233605
CREATED:20171206T143138Z
LAST-MODIFIED:20171206T143138Z
UID:2423-1512720000-1512734400@www.grangetownprimaryschool.co.uk
SUMMARY:Whole School Church Service - St Hildas
DESCRIPTION:
URL:https://www.grangetownprimaryschool.co.uk/event/whole-school-church-service-st-hildas/
END:VEVENT
BEGIN:VEVENT
DTSTART;TZID=UTC:20171208T150000
DTEND;TZID=UTC:20171208T163000
DTSTAMP:20260421T233605
CREATED:20171206T143212Z
LAST-MODIFIED:20171206T143212Z
UID:2425-1512745200-1512750600@www.grangetownprimaryschool.co.uk
SUMMARY:No Film Club
DESCRIPTION:
URL:https://www.grangetownprimaryschool.co.uk/event/no-film-club/
END:VEVENT
END:VCALENDAR