   BEGIN:VCALENDAR
VERSION:2.0
PRODID:-//Grangetown Primary - ECPv6.15.20//NONSGML v1.0//EN
CALSCALE:GREGORIAN
METHOD:PUBLISH
X-WR-CALNAME:Grangetown Primary
X-ORIGINAL-URL:https://www.grangetownprimaryschool.co.uk
X-WR-CALDESC:Events for Grangetown Primary
REFRESH-INTERVAL;VALUE=DURATION:PT1H
X-Robots-Tag:noindex
X-PUBLISHED-TTL:PT1H
BEGIN:VTIMEZONE
TZID:UTC
BEGIN:STANDARD
TZOFFSETFROM:+0000
TZOFFSETTO:+0000
TZNAME:UTC
DTSTART:20160101T000000
END:STANDARD
END:VTIMEZONE
BEGIN:VEVENT
DTSTART;VALUE=DATE:20171110
DTEND;VALUE=DATE:20171111
DTSTAMP:20260422T011112
CREATED:20171109T144252Z
LAST-MODIFIED:20171109T144252Z
UID:2085-1510272000-1510358399@www.grangetownprimaryschool.co.uk
SUMMARY:Friendship Day - Wear Yellow to school
DESCRIPTION:
URL:https://www.grangetownprimaryschool.co.uk/event/friendship-day-wear-yellow-to-school/
END:VEVENT
BEGIN:VEVENT
DTSTART;TZID=UTC:20171110T151500
DTEND;TZID=UTC:20171110T161500
DTSTAMP:20260422T011112
CREATED:20171109T144954Z
LAST-MODIFIED:20171109T144954Z
UID:2101-1510326900-1510330500@www.grangetownprimaryschool.co.uk
SUMMARY:Boxercise After School Club
DESCRIPTION:
URL:https://www.grangetownprimaryschool.co.uk/event/boxercise-after-school-club/
END:VEVENT
BEGIN:VEVENT
DTSTART;TZID=UTC:20171110T151500
DTEND;TZID=UTC:20171110T161500
DTSTAMP:20260422T011112
CREATED:20171109T145038Z
LAST-MODIFIED:20171109T145038Z
UID:2103-1510326900-1510330500@www.grangetownprimaryschool.co.uk
SUMMARY:Film Club After School Club
DESCRIPTION:
URL:https://www.grangetownprimaryschool.co.uk/event/film-club-after-school-club/
END:VEVENT
END:VCALENDAR