   BEGIN:VCALENDAR
VERSION:2.0
PRODID:-//Grangetown Primary - ECPv6.15.20//NONSGML v1.0//EN
CALSCALE:GREGORIAN
METHOD:PUBLISH
X-WR-CALNAME:Grangetown Primary
X-ORIGINAL-URL:https://www.grangetownprimaryschool.co.uk
X-WR-CALDESC:Events for Grangetown Primary
REFRESH-INTERVAL;VALUE=DURATION:PT1H
X-Robots-Tag:noindex
X-PUBLISHED-TTL:PT1H
BEGIN:VTIMEZONE
TZID:UTC
BEGIN:STANDARD
TZOFFSETFROM:+0000
TZOFFSETTO:+0000
TZNAME:UTC
DTSTART:20160101T000000
END:STANDARD
END:VTIMEZONE
BEGIN:VEVENT
DTSTART;TZID=UTC:20171109T080000
DTEND;TZID=UTC:20171109T170000
DTSTAMP:20260422T011112
CREATED:20171109T145939Z
LAST-MODIFIED:20171109T145939Z
UID:2107-1510214400-1510246800@www.grangetownprimaryschool.co.uk
SUMMARY:Children In Need Day
DESCRIPTION:Wear Spots and Dots for the day
URL:https://www.grangetownprimaryschool.co.uk/event/children-in-need-day/
END:VEVENT
BEGIN:VEVENT
DTSTART;TZID=UTC:20171109T123000
DTEND;TZID=UTC:20171109T154500
DTSTAMP:20260422T011112
CREATED:20171109T144130Z
LAST-MODIFIED:20171109T144130Z
UID:2083-1510230600-1510242300@www.grangetownprimaryschool.co.uk
SUMMARY:Y5&6 Athletics - Hillsview Academy
DESCRIPTION:
URL:https://www.grangetownprimaryschool.co.uk/event/y56-athletics-hillsview-academy/
END:VEVENT
BEGIN:VEVENT
DTSTART;TZID=UTC:20171109T130000
DTEND;TZID=UTC:20171109T150000
DTSTAMP:20260422T011112
CREATED:20171109T144324Z
LAST-MODIFIED:20171109T144324Z
UID:2087-1510232400-1510239600@www.grangetownprimaryschool.co.uk
SUMMARY:Kid Konnect Visit - Y3&4
DESCRIPTION:
URL:https://www.grangetownprimaryschool.co.uk/event/kid-konnect-visit-y34/
END:VEVENT
BEGIN:VEVENT
DTSTART;TZID=UTC:20171109T151500
DTEND;TZID=UTC:20171109T161500
DTSTAMP:20260422T011112
CREATED:20171109T144802Z
LAST-MODIFIED:20171109T144802Z
UID:2097-1510240500-1510244100@www.grangetownprimaryschool.co.uk
SUMMARY:Football Academy - After School Club
DESCRIPTION:
URL:https://www.grangetownprimaryschool.co.uk/event/football-academy-after-school-club/
END:VEVENT
BEGIN:VEVENT
DTSTART;TZID=UTC:20171109T151500
DTEND;TZID=UTC:20171109T161500
DTSTAMP:20260422T011112
CREATED:20171109T144846Z
LAST-MODIFIED:20171109T144846Z
UID:2099-1510240500-1510244100@www.grangetownprimaryschool.co.uk
SUMMARY:Arts and Crafts After School Club
DESCRIPTION:
URL:https://www.grangetownprimaryschool.co.uk/event/arts-and-crafts-after-school-club/
END:VEVENT
END:VCALENDAR