   BEGIN:VCALENDAR
VERSION:2.0
PRODID:-//Grangetown Primary - ECPv6.15.20//NONSGML v1.0//EN
CALSCALE:GREGORIAN
METHOD:PUBLISH
X-ORIGINAL-URL:https://www.grangetownprimaryschool.co.uk
X-WR-CALDESC:Events for Grangetown Primary
REFRESH-INTERVAL;VALUE=DURATION:PT1H
X-Robots-Tag:noindex
X-PUBLISHED-TTL:PT1H
BEGIN:VTIMEZONE
TZID:UTC
BEGIN:STANDARD
TZOFFSETFROM:+0000
TZOFFSETTO:+0000
TZNAME:UTC
DTSTART:20160101T000000
END:STANDARD
END:VTIMEZONE
BEGIN:VEVENT
DTSTART;TZID=UTC:20171108T130000
DTEND;TZID=UTC:20171108T150000
DTSTAMP:20260422T011228
CREATED:20171109T144024Z
LAST-MODIFIED:20171109T144024Z
UID:2081-1510146000-1510153200@www.grangetownprimaryschool.co.uk
SUMMARY:Y6 Golf - Middlesbrough Golf Club
DESCRIPTION:
URL:https://www.grangetownprimaryschool.co.uk/event/y6-golf-middlesbrough-golf-club/
END:VEVENT
BEGIN:VEVENT
DTSTART;TZID=UTC:20171108T151500
DTEND;TZID=UTC:20171108T161500
DTSTAMP:20260422T011228
CREATED:20171109T144602Z
LAST-MODIFIED:20171109T144602Z
UID:2093-1510154100-1510157700@www.grangetownprimaryschool.co.uk
SUMMARY:Healthy Kids After School Club
DESCRIPTION:
URL:https://www.grangetownprimaryschool.co.uk/event/healthy-kids-after-school-club/
END:VEVENT
BEGIN:VEVENT
DTSTART;TZID=UTC:20171108T151500
DTEND;TZID=UTC:20171108T161500
DTSTAMP:20260422T011228
CREATED:20171109T144725Z
LAST-MODIFIED:20171109T144725Z
UID:2095-1510154100-1510157700@www.grangetownprimaryschool.co.uk
SUMMARY:Grangetown Got Talent After School Club
DESCRIPTION:
URL:https://www.grangetownprimaryschool.co.uk/event/grangetown-got-talent-after-school-club/
END:VEVENT
END:VCALENDAR