   BEGIN:VCALENDAR
VERSION:2.0
PRODID:-//Grangetown Primary - ECPv6.15.20//NONSGML v1.0//EN
CALSCALE:GREGORIAN
METHOD:PUBLISH
X-ORIGINAL-URL:https://www.grangetownprimaryschool.co.uk
X-WR-CALDESC:Events for Grangetown Primary
REFRESH-INTERVAL;VALUE=DURATION:PT1H
X-Robots-Tag:noindex
X-PUBLISHED-TTL:PT1H
BEGIN:VTIMEZONE
TZID:UTC
BEGIN:STANDARD
TZOFFSETFROM:+0000
TZOFFSETTO:+0000
TZNAME:UTC
DTSTART:20160101T000000
END:STANDARD
END:VTIMEZONE
BEGIN:VEVENT
DTSTART;VALUE=DATE:20171107
DTEND;VALUE=DATE:20171108
DTSTAMP:20260422T011228
CREATED:20171109T143936Z
LAST-MODIFIED:20171109T143936Z
UID:2078-1510012800-1510099199@www.grangetownprimaryschool.co.uk
SUMMARY:Y3 BreadMaking
DESCRIPTION:
URL:https://www.grangetownprimaryschool.co.uk/event/y3-breadmaking/
END:VEVENT
END:VCALENDAR