   BEGIN:VCALENDAR
VERSION:2.0
PRODID:-//Grangetown Primary - ECPv6.15.20//NONSGML v1.0//EN
CALSCALE:GREGORIAN
METHOD:PUBLISH
X-ORIGINAL-URL:https://www.grangetownprimaryschool.co.uk
X-WR-CALDESC:Events for Grangetown Primary
REFRESH-INTERVAL;VALUE=DURATION:PT1H
X-Robots-Tag:noindex
X-PUBLISHED-TTL:PT1H
BEGIN:VTIMEZONE
TZID:UTC
BEGIN:STANDARD
TZOFFSETFROM:+0000
TZOFFSETTO:+0000
TZNAME:UTC
DTSTART:20160101T000000
END:STANDARD
END:VTIMEZONE
BEGIN:VEVENT
DTSTART;VALUE=DATE:20171005
DTEND;VALUE=DATE:20171006
DTSTAMP:20260422T024636
CREATED:20170926T081039Z
LAST-MODIFIED:20170926T081039Z
UID:1982-1507161600-1507247999@www.grangetownprimaryschool.co.uk
SUMMARY:World Teachers Day
DESCRIPTION:
URL:https://www.grangetownprimaryschool.co.uk/event/world-teachers-day/
END:VEVENT
BEGIN:VEVENT
DTSTART;TZID=UTC:20171005T093000
DTEND;TZID=UTC:20171005T143000
DTSTAMP:20260422T024636
CREATED:20170926T081322Z
LAST-MODIFIED:20170926T081322Z
UID:1984-1507195800-1507213800@www.grangetownprimaryschool.co.uk
SUMMARY:Y4 Rugby Development Day
DESCRIPTION:@ Redcar Rugby Club
URL:https://www.grangetownprimaryschool.co.uk/event/y4-rugby-development-day/
END:VEVENT
END:VCALENDAR